BEGIN:VCALENDAR
VERSION:2.0
PRODID:-//Welcome to Bath - ECPv6.15.20//NONSGML v1.0//EN
CALSCALE:GREGORIAN
METHOD:PUBLISH
X-ORIGINAL-URL:https://www.welcometobath.co.uk
X-WR-CALDESC:Events for Welcome to Bath
REFRESH-INTERVAL;VALUE=DURATION:PT1H
X-Robots-Tag:noindex
X-PUBLISHED-TTL:PT1H
BEGIN:VTIMEZONE
TZID:Europe/London
BEGIN:DAYLIGHT
TZOFFSETFROM:+0000
TZOFFSETTO:+0100
TZNAME:BST
DTSTART:20250330T010000
END:DAYLIGHT
BEGIN:STANDARD
TZOFFSETFROM:+0100
TZOFFSETTO:+0000
TZNAME:GMT
DTSTART:20251026T010000
END:STANDARD
BEGIN:DAYLIGHT
TZOFFSETFROM:+0000
TZOFFSETTO:+0100
TZNAME:BST
DTSTART:20260329T010000
END:DAYLIGHT
BEGIN:STANDARD
TZOFFSETFROM:+0100
TZOFFSETTO:+0000
TZNAME:GMT
DTSTART:20261025T010000
END:STANDARD
BEGIN:DAYLIGHT
TZOFFSETFROM:+0000
TZOFFSETTO:+0100
TZNAME:BST
DTSTART:20270328T010000
END:DAYLIGHT
BEGIN:STANDARD
TZOFFSETFROM:+0100
TZOFFSETTO:+0000
TZNAME:GMT
DTSTART:20271031T010000
END:STANDARD
END:VTIMEZONE
BEGIN:VEVENT
DTSTART;TZID=Europe/London:20260516T000000
DTEND;TZID=Europe/London:20260524T235959
DTSTAMP:20260425T130313
CREATED:20260206T120916Z
LAST-MODIFIED:20260206T120933Z
UID:10031804-1778889600-1779667199@www.welcometobath.co.uk
SUMMARY:Bath Literature Festival
DESCRIPTION:The Bath Literature Festival\, the city’s biggest and oldest celebration of words\, ideas\, and creativity\, returns from 16-24 May 2026. \n\n\n\n\n\n\n\nThe festival will open with the traditional ‘Party in the City’ on Friday 15 May\, featuring live music from bands\, choirs\, and solo musicians at dozens of venues\, all for free. \n\n\n\n\n\n\n\n\n    \n    \n    \n        \n            \n\n\n    \n                    \n                Find Out More
URL:https://www.welcometobath.co.uk/bath-events/bath-literature-festival/
CATEGORIES:Festivals,Important Event in Bath,Lectures and Talks,Literary,Talks
ATTACH;FMTTYPE=image/jpeg:https://www.welcometobath.co.uk/wp-content/uploads/2025/11/Tim_Spector_Bath-Festivals-event.jpg
END:VEVENT
BEGIN:VEVENT
DTSTART;TZID=Europe/London:20260519T000000
DTEND;TZID=Europe/London:20260521T235959
DTSTAMP:20260425T130314
CREATED:20260206T122451Z
LAST-MODIFIED:20260206T122500Z
UID:10031806-1779148800-1779407999@www.welcometobath.co.uk
SUMMARY:Bath Digital Festival
DESCRIPTION:Bath Digital Festival returns in May 2026 with three days of big questions\, bold thinking and open experimentation.  \n\n\n\n\n\n\n\nExpect practical insight\, creative collisions and real conversations\, from live demos and hands-on sessions to founder stories\, showcases\, panels and the unexpected moments in between. \n\n\n\n\n\n\n\n\n    \n    \n    \n        \n            \n\n\n    \n                    \n                Find Out More
URL:https://www.welcometobath.co.uk/bath-events/bath-digital-festival/
CATEGORIES:Bath Digital Festival,Business Related Events,Important Event in Bath,Lectures and Talks,Networking
ATTACH;FMTTYPE=image/jpeg:https://www.welcometobath.co.uk/wp-content/uploads/2021/04/Bath-Digital-Festival.jpg
END:VEVENT
BEGIN:VEVENT
DTSTART;TZID=Europe/London:20260530T000000
DTEND;TZID=Europe/London:20260607T235959
DTSTAMP:20260425T130314
CREATED:20251209T095120Z
LAST-MODIFIED:20251209T095122Z
UID:10031501-1780099200-1780876799@www.welcometobath.co.uk
SUMMARY:Bath International Music Festival
DESCRIPTION:Since 1948 music lovers have been coming to Bath to enjoy world-class classical music in some of the city’s most beautiful historic buildings. \n\n\n\n\n\n\n\n\n    \n    \n    \n        \n            \n\n\n    \n                    \n                Find out more
URL:https://www.welcometobath.co.uk/bath-events/bath-international-music-festival/
LOCATION:Bath City Centre\, Bath\, Bath\, BANES\, United Kingdom
CATEGORIES:Festivals,Important Event in Bath,Music
ATTACH;FMTTYPE=image/jpeg:https://www.welcometobath.co.uk/wp-content/uploads/2025/12/Secret-Byrd.jpg
ORGANIZER;CN="The Bath Festival":MAILTO:info@bathfestivals.org.uk
END:VEVENT
BEGIN:VEVENT
DTSTART;TZID=Europe/London:20261016T000000
DTEND;TZID=Europe/London:20261025T235959
DTSTAMP:20260425T130314
CREATED:20260206T131735Z
LAST-MODIFIED:20260206T131755Z
UID:10031808-1792108800-1792972799@www.welcometobath.co.uk
SUMMARY:Bath Film Festival
DESCRIPTION:Bath Film Festival returns to the city from 16-25 October 2026 to showcase a wonderfully diverse selection of cinema from around the world\, in some of Bath’s most unexpected buildings. \n\n\n\n\n\n\n\n\n    \n    \n    \n        \n            \n\n\n    \n                    \n                Find Out More
URL:https://www.welcometobath.co.uk/bath-events/bath-film-festival/
CATEGORIES:Festivals,Film,Important Event in Bath
ATTACH;FMTTYPE=image/png:https://www.welcometobath.co.uk/wp-content/uploads/2020/11/FilmBath-Festival-2.png
ORGANIZER;CN="FilmBath":MAILTO:hello@filmbath.org.uk
END:VEVENT
END:VCALENDAR